BEGIN:VCALENDAR
VERSION:2.0
PRODID:-//Markus Geretshauser &amp; Partner - ECPv6.15.20//NONSGML v1.0//EN
CALSCALE:GREGORIAN
METHOD:PUBLISH
X-ORIGINAL-URL:https://markus-geretshauser.de
X-WR-CALDESC:Veranstaltungen für Markus Geretshauser &amp; Partner
REFRESH-INTERVAL;VALUE=DURATION:PT1H
X-Robots-Tag:noindex
X-PUBLISHED-TTL:PT1H
BEGIN:VTIMEZONE
TZID:Europe/Berlin
BEGIN:DAYLIGHT
TZOFFSETFROM:+0100
TZOFFSETTO:+0200
TZNAME:CEST
DTSTART:20250330T010000
END:DAYLIGHT
BEGIN:STANDARD
TZOFFSETFROM:+0200
TZOFFSETTO:+0100
TZNAME:CET
DTSTART:20251026T010000
END:STANDARD
BEGIN:DAYLIGHT
TZOFFSETFROM:+0100
TZOFFSETTO:+0200
TZNAME:CEST
DTSTART:20260329T010000
END:DAYLIGHT
BEGIN:STANDARD
TZOFFSETFROM:+0200
TZOFFSETTO:+0100
TZNAME:CET
DTSTART:20261025T010000
END:STANDARD
BEGIN:DAYLIGHT
TZOFFSETFROM:+0100
TZOFFSETTO:+0200
TZNAME:CEST
DTSTART:20270328T010000
END:DAYLIGHT
BEGIN:STANDARD
TZOFFSETFROM:+0200
TZOFFSETTO:+0100
TZNAME:CET
DTSTART:20271031T010000
END:STANDARD
END:VTIMEZONE
BEGIN:VEVENT
DTSTART;TZID=Europe/Berlin:20260317T180000
DTEND;TZID=Europe/Berlin:20260317T210000
DTSTAMP:20260422T121837
CREATED:20251215T165942Z
LAST-MODIFIED:20251215T165942Z
UID:8634-1773770400-1773781200@markus-geretshauser.de
SUMMARY:Künstliche Intelligenz - Einführungsworkshop (Tag 2)
DESCRIPTION:Künstliche Intelligenz (engl. Artificial Intelligence) ist ein hochaktuelles Thema\, das immer mehr an Bedeutung gewinnt.\nDie Technologie entwickelt sich rasant weiter und bietet zahlreiche Möglichkeiten\, um Prozesse zu automatisieren\, Daten effektiver zu analysieren und Entscheidungen zu optimieren. \nDer Workshop richtet sich daher an alle\, die mehr über die Potenziale und Anwendungsbereiche wie beispielsweise die Texterstellung\, Bildbearbeitung und Recherchearbeit mit der künstlichen Intelligenz erfahren möchten. \n  \n-> Dauer: 2x 3 Stunden\n(06.05.2025 & 13.05.2025 jeweils 18:00 – 21:00 Uhr)\n-> Kosten p.P. 49€ \nDozent: Markus Geretshauser\nhttps://Markus-Geretshauser.de \nAnmeldung und weitere Informationen unter:\n0 9445/75249-0 oder https://www.vhs-abensberg-neustadt.de
URL:https://markus-geretshauser.de/veranstaltungen/kuenstliche-intelligenz-einfuehrungsworkshop-tag-2
LOCATION:Städtische Volkshochschulen Abensberg und Neustadt an der Donau\, Stadtplatz 13\, Neustadt an der Donau\, Bayern\, 93333\, Deutschland
CATEGORIES:Workshops
ATTACH;FMTTYPE=image/png:https://markus-geretshauser.de/wp-content/uploads/2024/04/KI-start.png
ORGANIZER;CN="Markus Geretshauser":MAILTO:info@markus-geretshauser.de
END:VEVENT
END:VCALENDAR