BEGIN:VCALENDAR
VERSION:2.0
PRODID:-//Markus Geretshauser &amp; Partner - ECPv6.15.20//NONSGML v1.0//EN
CALSCALE:GREGORIAN
METHOD:PUBLISH
X-WR-CALNAME:Markus Geretshauser &amp; Partner
X-ORIGINAL-URL:https://markus-geretshauser.de
X-WR-CALDESC:Veranstaltungen für Markus Geretshauser &amp; Partner
REFRESH-INTERVAL;VALUE=DURATION:PT1H
X-Robots-Tag:noindex
X-PUBLISHED-TTL:PT1H
BEGIN:VTIMEZONE
TZID:Europe/Berlin
BEGIN:DAYLIGHT
TZOFFSETFROM:+0100
TZOFFSETTO:+0200
TZNAME:CEST
DTSTART:20230326T010000
END:DAYLIGHT
BEGIN:STANDARD
TZOFFSETFROM:+0200
TZOFFSETTO:+0100
TZNAME:CET
DTSTART:20231029T010000
END:STANDARD
BEGIN:DAYLIGHT
TZOFFSETFROM:+0100
TZOFFSETTO:+0200
TZNAME:CEST
DTSTART:20240331T010000
END:DAYLIGHT
BEGIN:STANDARD
TZOFFSETFROM:+0200
TZOFFSETTO:+0100
TZNAME:CET
DTSTART:20241027T010000
END:STANDARD
BEGIN:DAYLIGHT
TZOFFSETFROM:+0100
TZOFFSETTO:+0200
TZNAME:CEST
DTSTART:20250330T010000
END:DAYLIGHT
BEGIN:STANDARD
TZOFFSETFROM:+0200
TZOFFSETTO:+0100
TZNAME:CET
DTSTART:20251026T010000
END:STANDARD
END:VTIMEZONE
BEGIN:VEVENT
DTSTART;TZID=Europe/Berlin:20241105T180000
DTEND;TZID=Europe/Berlin:20241105T200000
DTSTAMP:20260419T202151
CREATED:20240416T151407Z
LAST-MODIFIED:20240416T151822Z
UID:6979-1730829600-1730836800@markus-geretshauser.de
SUMMARY:Social Media leicht gemacht: Workshop für Einsteiger! (Tag 1)
DESCRIPTION:Tauche ein in die Welt von Social Media! \nIn diesem interaktiven Workshop lernst du die Grundlagen der wichtigsten Plattformen wie Facebook\, Instagram und LinkedIn kennen. \nEntdecke: \nDie Funktionsweise der Plattformen: Profile erstellen\, Beiträge teilen\, mit anderen Nutzern interagieren und vieles mehr. \nEffektive Nutzung: Tipps und Tricks für die optimale Nutzung von Social Media für deine persönlichen oder beruflichen Ziele. \nSpannende Inhalte: Inspiration und Ideen für eigene Beiträge\, die deine Freunde und Follower begeistern. \nLust mitzumachen und auszuprobieren? Dann bring dein Smartphone mit geladenem Akku und den installierten Apps einfach mit. \n-> Dauer: 2x 2 Stunden \n(18:00 – 20:00 Uhr) \n-> Kosten p.P. 39€ \nDozent: Markus Geretshauser\nhttps://Markus-Geretshauser.de \nAnmeldung und weitere Informationen unter:\n0 9445/75249-0 oder https://www.vhs-abensberg-neustadt.de
URL:https://markus-geretshauser.de/veranstaltungen/social-media-leicht-gemacht-workshop-fuer-einsteiger-tag-1
LOCATION:Städtische Volkshochschulen Abensberg und Neustadt an der Donau\, Stadtplatz 13\, Neustadt an der Donau\, Bayern\, 93333\, Deutschland
CATEGORIES:Workshops
ORGANIZER;CN="Markus Geretshauser":MAILTO:info@markus-geretshauser.de
END:VEVENT
BEGIN:VEVENT
DTSTART;TZID=Europe/Berlin:20241112T180000
DTEND;TZID=Europe/Berlin:20241112T200000
DTSTAMP:20260419T202151
CREATED:20240416T151942Z
LAST-MODIFIED:20240416T153117Z
UID:6985-1731434400-1731441600@markus-geretshauser.de
SUMMARY:Social Media leicht gemacht: Workshop für Einsteiger! (Tag 2)
DESCRIPTION:Tauche ein in die Welt von Social Media! \nIn diesem interaktiven Workshop lernst du die Grundlagen der wichtigsten Plattformen wie Facebook\, Instagram und LinkedIn kennen. \nEntdecke: \nDie Funktionsweise der Plattformen: Profile erstellen\, Beiträge teilen\, mit anderen Nutzern interagieren und vieles mehr. \nEffektive Nutzung: Tipps und Tricks für die optimale Nutzung von Social Media für deine persönlichen oder beruflichen Ziele. \nSpannende Inhalte: Inspiration und Ideen für eigene Beiträge\, die deine Freunde und Follower begeistern. \nLust mitzumachen und auszuprobieren? Dann bring dein Smartphone mit geladenem Akku und den installierten Apps einfach mit. \n-> Dauer: 2x 2 Stunden \n(18:00 – 20:00 Uhr) \n-> Kosten p.P. 39€ \nDozent: Markus Geretshauser\nhttps://Markus-Geretshauser.de \nAnmeldung und weitere Informationen unter:\n0 9445/75249-0 oder https://www.vhs-abensberg-neustadt.de
URL:https://markus-geretshauser.de/veranstaltungen/social-media-leicht-gemacht-workshop-fuer-einsteiger-tag-2
LOCATION:Städtische Volkshochschulen Abensberg und Neustadt an der Donau\, Stadtplatz 13\, Neustadt an der Donau\, Bayern\, 93333\, Deutschland
CATEGORIES:Workshops
ORGANIZER;CN="Markus Geretshauser":MAILTO:info@markus-geretshauser.de
END:VEVENT
BEGIN:VEVENT
DTSTART;TZID=Europe/Berlin:20241119T180000
DTEND;TZID=Europe/Berlin:20241119T200000
DTSTAMP:20260419T202151
CREATED:20240416T152858Z
LAST-MODIFIED:20241118T140303Z
UID:6987-1732039200-1732046400@markus-geretshauser.de
SUMMARY:Erfolgreiches Social Media - Marketing für Ihr Unternehmen! (Tag 1)
DESCRIPTION:In unserem Workshop erfahren Sie\, wie Sie die Kraft von Social Media nutzen können\, um Ihre Marke zu stärken und Kunden zu erreichen. \nSie können sich mit anderen Unternehmern austauschen und wertvolle Tips & Tricks mitnehmen\, die Ihnen helfen werden Ihren Social Media Auftritt zu optimieren. \n\n-> Dauer: 3x 2 Stunden \n(18:00 – 20:00 Uhr) \n-> Kosten p.P. 69€ \nDozent: Markus Geretshauser\nhttps://Markus-Geretshauser.de \nAnmeldung und weitere Informationen unter:\n0 9445/75249-0 oder https://www.vhs-abensberg-neustadt.de
URL:https://markus-geretshauser.de/veranstaltungen/erfolgreiches-social-media-marketing-fuer-ihr-unternehmen-tag-1
LOCATION:Städtische Volkshochschulen Abensberg und Neustadt an der Donau\, Stadtplatz 13\, Neustadt an der Donau\, Bayern\, 93333\, Deutschland
CATEGORIES:Workshops
ATTACH;FMTTYPE=image/jpeg:https://markus-geretshauser.de/wp-content/uploads/2024/04/Bild.jpg
ORGANIZER;CN="Markus Geretshauser":MAILTO:info@markus-geretshauser.de
END:VEVENT
BEGIN:VEVENT
DTSTART;TZID=Europe/Berlin:20241126T180000
DTEND;TZID=Europe/Berlin:20241126T200000
DTSTAMP:20260419T202151
CREATED:20240416T153458Z
LAST-MODIFIED:20241118T140322Z
UID:6990-1732644000-1732651200@markus-geretshauser.de
SUMMARY:Erfolgreiches Social Media - Marketing für Ihr Unternehmen! (Tag 2)
DESCRIPTION:In unserem Workshop erfahren Sie\, wie Sie die Kraft von Social Media nutzen können\, um Ihre Marke zu stärken und Kunden zu erreichen. \nSie können sich mit anderen Unternehmern austauschen und wertvolle Tips & Tricks mitnehmen\, die Ihnen helfen werden Ihren Social Media Auftritt zu optimieren. \n\n-> Dauer: 3x 2 Stunden \n(18:00 – 20:00 Uhr) \n-> Kosten p.P. 69€ \nDozent: Markus Geretshauser\nhttps://Markus-Geretshauser.de \nAnmeldung und weitere Informationen unter:\n0 9445/75249-0 oder https://www.vhs-abensberg-neustadt.de
URL:https://markus-geretshauser.de/veranstaltungen/erfolgreiches-social-media-marketing-fuer-ihr-unternehmen-tag-2
LOCATION:Städtische Volkshochschulen Abensberg und Neustadt an der Donau\, Stadtplatz 13\, Neustadt an der Donau\, Bayern\, 93333\, Deutschland
CATEGORIES:Workshops
ATTACH;FMTTYPE=image/jpeg:https://markus-geretshauser.de/wp-content/uploads/2024/04/Bild.jpg
ORGANIZER;CN="Markus Geretshauser":MAILTO:info@markus-geretshauser.de
END:VEVENT
END:VCALENDAR