BEGIN:VCALENDAR
VERSION:2.0
PRODID:-//Markus Geretshauser &amp; Partner - ECPv6.15.20//NONSGML v1.0//EN
CALSCALE:GREGORIAN
METHOD:PUBLISH
X-ORIGINAL-URL:https://markus-geretshauser.de
X-WR-CALDESC:Veranstaltungen für Markus Geretshauser &amp; Partner
REFRESH-INTERVAL;VALUE=DURATION:PT1H
X-Robots-Tag:noindex
X-PUBLISHED-TTL:PT1H
BEGIN:VTIMEZONE
TZID:Europe/Berlin
BEGIN:DAYLIGHT
TZOFFSETFROM:+0100
TZOFFSETTO:+0200
TZNAME:CEST
DTSTART:20240331T010000
END:DAYLIGHT
BEGIN:STANDARD
TZOFFSETFROM:+0200
TZOFFSETTO:+0100
TZNAME:CET
DTSTART:20241027T010000
END:STANDARD
BEGIN:DAYLIGHT
TZOFFSETFROM:+0100
TZOFFSETTO:+0200
TZNAME:CEST
DTSTART:20250330T010000
END:DAYLIGHT
BEGIN:STANDARD
TZOFFSETFROM:+0200
TZOFFSETTO:+0100
TZNAME:CET
DTSTART:20251026T010000
END:STANDARD
BEGIN:DAYLIGHT
TZOFFSETFROM:+0100
TZOFFSETTO:+0200
TZNAME:CEST
DTSTART:20260329T010000
END:DAYLIGHT
BEGIN:STANDARD
TZOFFSETFROM:+0200
TZOFFSETTO:+0100
TZNAME:CET
DTSTART:20261025T010000
END:STANDARD
END:VTIMEZONE
BEGIN:VEVENT
DTSTART;TZID=Europe/Berlin:20250408T180000
DTEND;TZID=Europe/Berlin:20250408T200000
DTSTAMP:20260419T135034
CREATED:20241024T124344Z
LAST-MODIFIED:20241024T124344Z
UID:7744-1744135200-1744142400@markus-geretshauser.de
SUMMARY:Social Media leicht gemacht: Workshop für Einsteiger! (Tag 1)
DESCRIPTION:Tauche ein in die Welt von Social Media! \nIn diesem interaktiven Workshop lernst du die Grundlagen der wichtigsten Plattformen wie Facebook\, Instagram und LinkedIn kennen. \nEntdecke: \nDie Funktionsweise der Plattformen: Profile erstellen\, Beiträge teilen\, mit anderen Nutzern interagieren und vieles mehr. \nEffektive Nutzung: Tipps und Tricks für die optimale Nutzung von Social Media für deine persönlichen oder beruflichen Ziele. \nSpannende Inhalte: Inspiration und Ideen für eigene Beiträge\, die deine Freunde und Follower begeistern. \nLust mitzumachen und auszuprobieren? Dann bring dein Smartphone mit geladenem Akku und den installierten Apps einfach mit. \n-> Dauer: 2x 2 Stunden \n(18:00 – 20:00 Uhr) \n-> Kosten p.P. 39€ \nDozent: Markus Geretshauser\nhttps://Markus-Geretshauser.de \nAnmeldung und weitere Informationen unter:\n0 9445/75249-0 oder https://www.vhs-abensberg-neustadt.de
URL:https://markus-geretshauser.de/veranstaltungen/social-media-leicht-gemacht-workshop-fuer-einsteiger-tag-1-2
LOCATION:Städtische Volkshochschulen Abensberg und Neustadt an der Donau\, Stadtplatz 13\, Neustadt an der Donau\, Bayern\, 93333\, Deutschland
CATEGORIES:Workshops
ORGANIZER;CN="Markus Geretshauser":MAILTO:info@markus-geretshauser.de
END:VEVENT
BEGIN:VEVENT
DTSTART;TZID=Europe/Berlin:20250415T180000
DTEND;TZID=Europe/Berlin:20250415T200000
DTSTAMP:20260419T135034
CREATED:20241024T124500Z
LAST-MODIFIED:20241024T124600Z
UID:7746-1744740000-1744747200@markus-geretshauser.de
SUMMARY:Social Media leicht gemacht: Workshop für Einsteiger! (Tag 2)
DESCRIPTION:Tauche ein in die Welt von Social Media! \nIn diesem interaktiven Workshop lernst du die Grundlagen der wichtigsten Plattformen wie Facebook\, Instagram und LinkedIn kennen. \nEntdecke: \nDie Funktionsweise der Plattformen: Profile erstellen\, Beiträge teilen\, mit anderen Nutzern interagieren und vieles mehr. \nEffektive Nutzung: Tipps und Tricks für die optimale Nutzung von Social Media für deine persönlichen oder beruflichen Ziele. \nSpannende Inhalte: Inspiration und Ideen für eigene Beiträge\, die deine Freunde und Follower begeistern. \nLust mitzumachen und auszuprobieren? Dann bring dein Smartphone mit geladenem Akku und den installierten Apps einfach mit. \n-> Dauer: 2x 2 Stunden \n(18:00 – 20:00 Uhr) \n-> Kosten p.P. 39€ \nDozent: Markus Geretshauser\nhttps://Markus-Geretshauser.de \nAnmeldung und weitere Informationen unter:\n0 9445/75249-0 oder https://www.vhs-abensberg-neustadt.de
URL:https://markus-geretshauser.de/veranstaltungen/social-media-leicht-gemacht-workshop-fuer-einsteiger-tag-2-2
LOCATION:Städtische Volkshochschulen Abensberg und Neustadt an der Donau\, Stadtplatz 13\, Neustadt an der Donau\, Bayern\, 93333\, Deutschland
CATEGORIES:Workshops
ORGANIZER;CN="Markus Geretshauser":MAILTO:info@markus-geretshauser.de
END:VEVENT
END:VCALENDAR